Workbook
Name A: [1]LISTA!$E$1:$E$6
Name DESCRIÇÃO_DO_ITEM: #N/A
Name FatSabadoOut: '[2]TrafContExpan-NoPrint'!$O$5
Name FatSextaOut: '[2]TrafContExpan-NoPrint'!$O$4
Name FONTES: [3]LISTA!$E$1:$E$6
Name grf: [4]LISTA!$E$1:$E$6
Name hf: [5]LISTA!$E$1:$E$6
Name M: [1]LISTA!$E$1:$E$6
Name TIPO_BDI: [6]LISTA!$A$1:$A$3
Name TIPO2_BDI: [6]LISTA!$C$1:$C$4
Name TxCresc: '[2]TodasTraf-2000-NoPrint'!$C$7:$L$17
Name XXX: [7]LISTA!$E$1:$E$6

Sheet Resumo do Orçamento
D1: Obra | E1: Bancos | F1: B.D.I. | I1: Encargos Sociais
D2: Obra de Construção de Auditorio e Area de Vivencia da Camara Municipal de Mamanguape | E2: SINAPI - 04/2025 - Paraíba SBC - 06/2025 - Paraíba ORSE - 03/2025 - Sergipe SEINFRA - 028 - Ceará | F2: 21,51% | I2: Não Desonerado: embutido nos preços unitário dos insumos de mão de obra, de acordo com as bases.
A3: Planilha Orçamentária Resumida
A4: Item | D4: Descrição | H4: Quant. | I4: Total
A5: 1 | D5: SERVIÇOS PRELIMINARES | H5: 1 | I5: 2767.09
A6: 2 | D6: AUDITORIO | H6: 1 | I6: 506193.96
A7: 3 | D7: AREA DE VIVENCIA | H7: 1 | I7: 34849.05
E9: Total sem BDI | G9: 447263.24
E10: Total do BDI | G10: 96546.86
E11: Total Geral | G11: 543810.1
A13: _______________________________________________________________

Sheet Orçamento Sintético
D1: Obra | E1: Bancos | G1: B.D.I. | I1: Encargos Sociais
D2: Obra de Construção de Auditorio e Area de Vivencia da Camara Municipal de Mamanguape | E2: SINAPI - 04/2025 - Paraíba SBC - 06/2025 - Paraíba ORSE - 03/2025 - Sergipe SEINFRA - 028 - Ceará | G2: 21,51% | I2: Não Desonerado: embutido nos preços unitário dos insumos de mão de obra, de acordo com as bases.
H3: Valor Final do Orçamento | J3: =I6 + I9 + I153 -> 543810.1
H4: BDI | J4: 0.2151
A5: Item | B5: Código | C5: Banco | D5: Descrição | E5: Und | F5: Quant. | G5: Valor Unit | H5: Valor Unit com BDI | I5: Total | J5: Peso (%)
A6: 1 | D6: SERVIÇOS PRELIMINARES | F6: 1 | H6: =I7 + I8 -> 2767.09 | I6: =TRUNC(F6 * H6,2) -> 2767.09 | J6: =I6 / J3 -> 0.0050883387
A7: 1.1 | B7: PAV4 | C7: Próprio | D7: ART DE EXECUÇÃO | E7: Und | F7: 1 | G7: 208.19 | H7: =TRUNC(TRUNC(G7 * J4, 2) + G7, 2) -> 252.97 | I7: =TRUNC(F7 * H7,2) -> 252.97 | J7: =I7 / J3 -> 0.00046518077
A8: 1.2 | B8: 103689 | C8: SINAPI | D8: FORNECIMENTO E INSTALAÇÃO DE PLACA DE OBRA COM CHAPA GALVANIZADA E ESTRUTURA DE MADEIRA. AF_03/2022_PS | E8: m² | F8: 6 | G8: 344.85 | H8: =TRUNC(TRUNC(G8 * J4, 2) + G8, 2) -> 419.02 | I8: =TRUNC(F8 * H8,2) -> 2514.12 | J8: =I8 / J3 -> 0.004623158
A9: 2 | D9: AUDITORIO | F9: 1 | H9: =I10 + I16 + I28 + I34 + I63 + I76 + I87 + I90 + I127 + I132 + I135 + I142 + I146 + I151 -> 506193.96 | I9: =TRUNC(F9 * H9,2) -> 506193.96 | J9: =I9 / J3 -> 0.93082854
A10: 2.1 | D10: RETIRADAS E DEMOLIÇÕES | F10: 1 | H10: =I11 + I12 + I13 + I14 + I15 -> 17419.03 | I10: =TRUNC(F10 * H10,2) -> 17419.03 | J10: =I10 / J3 -> 0.032031457
A11: 2.1.1 | B11: 97635 | C11: SINAPI | D11: REMOÇÃO DE PISO DE BLOCO INTERTRAVADO OU DE PEDRA PORTUGUESA, DE FORMA MANUAL, COM REAPROVEITAMENTO. AF_09/2023 | E11: m² | F11: 270.89 | G11: 13.46 | H11: =TRUNC(TRUNC(G11 * J4, 2) + G11, 2) -> 16.35 | I11: =TRUNC(F11 * H11,2) -> 4429.05 | J11: =I11 / J3 -> 0.0081444791
A12: 2.1.2 | B12: 022974 | C12: SBC | D12: REMOCAO POSTE METALICO ENGT CONCR DE 5A7M C/E S/ REAPROVEIT. | E12: UN | F12: 3 | G12: 577.25 | H12: =TRUNC(TRUNC(G12 * J4, 2) + G12, 2) -> 701.41 | I12: =TRUNC(F12 * H12,2) -> 2104.23 | J12: =I12 / J3 -> 0.0038694206
A13: 2.1.3 | B13: 105009 | C13: SINAPI | D13: LOCAÇÃO CONVENCIONAL DE OBRA, UTILIZANDO GABARITO DE TÁBUAS CORRIDAS PONTALETADAS A CADA 1,50M - 2 UTILIZAÇÕES. AF_03/2024 | E13: M | F13: 73.2 | G13: 54.7 | H13: =TRUNC(TRUNC(G13 * J4, 2) + G13, 2) -> 66.46 | I13: =TRUNC(F13 * H13,2) -> 4864.87 | J13: =I13 / J3 -> 0.0089458986
A14: 2.1.4 | B14: 101134 | C14: SINAPI | D14: ESCAVAÇÃO HORIZONTAL, INCLUINDO CARGA, DESCARGA E TRANSPORTE EM SOLO DE 1A CATEGORIA COM TRATOR DE ESTEIRAS (100HP/LÂMINA: 2,19M3) E CAMINHÃO BASCULANTE DE 10M3, DMT ATÉ 200M. AF_07/2020 | E14: m³ | F14: 390.71 | G14: 11.45 | H14: =TRUNC(TRUNC(G14 * J4, 2) + G14, 2) -> 13.91 | I14: =TRUNC(F14 * H14,2) -> 5434.77 | J14: =I14 / J3 -> 0.0099938747
A15: 2.1.5 | B15: 97621 | C15: SINAPI | D15: DEMOLIÇÃO DE ALVENARIA DE BLOCO FURADO, DE FORMA MANUAL, COM REAPROVEITAMENTO. AF_09/2023 | E15: m³ | F15: 5.88 | G15: 82.04 | H15: =TRUNC(TRUNC(G15 * J4, 2) + G15, 2) -> 99.68 | I15: =TRUNC(F15 * H15,2) -> 586.11 | J15: =I15 / J3 -> 0.0010777843
A16: 2.2 | D16: SUPERESTRUTURAS | F16: 1 | H16: =I17 + I18 + I19 + I20 + I21 + I22 + I23 + I24 + I25 + I26 + I27 -> 55953.83 | I16: =TRUNC(F16 * H16,2) -> 55953.83 | J16: =I16 / J3 -> 0.10289222
A17: 2.2.1 | B17: 104918 | C17: SINAPI | D17: ARMAÇÃO DE SAPATA ISOLADA, VIGA BALDRAME E SAPATA CORRIDA UTILIZANDO AÇO CA-50 DE 8 MM - MONTAGEM. AF_01/2024 | E17: KG | F17: 71 | G17: 10.3 | H17: =TRUNC(TRUNC(G17 * J4, 2) + G17, 2) -> 12.51 | I17: =TRUNC(F17 * H17,2) -> 888.21 | J17: =I17 / J3 -> 0.0016333091
A18: 2.2.2 | B18: 92760 | C18: SINAPI | D18: ARMAÇÃO DE PILAR OU VIGA DE ESTRUTURA CONVENCIONAL DE CONCRETO ARMADO UTILIZANDO AÇO CA-50 DE 6,3 MM - MONTAGEM. AF_06/2022 | E18: KG | F18: 1.5 | G18: 9.57 | H18: =TRUNC(TRUNC(G18 * J4, 2) + G18, 2) -> 11.62 | I18: =TRUNC(F18 * H18,2) -> 17.43 | J18: =I18 / J3 -> 3.205163e-05
A19: 2.2.3 | B19: 92761 | C19: SINAPI | D19: ARMAÇÃO DE PILAR OU VIGA DE ESTRUTURA CONVENCIONAL DE CONCRETO ARMADO UTILIZANDO AÇO CA-50 DE 8,0 MM - MONTAGEM. AF_06/2022 | E19: KG | F19: 476 | G19: 9.01 | H19: =TRUNC(TRUNC(G19 * J4, 2) + G19, 2) -> 10.94 | I19: =TRUNC(F19 * H19,2) -> 5207.44 | J19: =I19 / J3 -> 0.0095758427
A20: 2.2.4 | B20: 92762 | C20: SINAPI | D20: ARMAÇÃO DE PILAR OU VIGA DE ESTRUTURA CONVENCIONAL DE CONCRETO ARMADO UTILIZANDO AÇO CA-50 DE 10,0 MM - MONTAGEM. AF_06/2022 | E20: KG | F20: 74.2 | G20: 8.06 | H20: =TRUNC(TRUNC(G20 * J4, 2) + G20, 2) -> 9.79 | I20: =TRUNC(F20 * H20,2) -> 726.41 | J20: =I20 / J3 -> 0.0013357788
A21: 2.2.5 | B21: 92763 | C21: SINAPI | D21: ARMAÇÃO DE PILAR OU VIGA DE ESTRUTURA CONVENCIONAL DE CONCRETO ARMADO UTILIZANDO AÇO CA-50 DE 12,5 MM - MONTAGEM. AF_06/2022 | E21: KG | F21: 69.6 | G21: 6.78 | H21: =TRUNC(TRUNC(G21 * J4, 2) + G21, 2) -> 8.23 | I21: =TRUNC(F21 * H21,2) -> 572.8 | J21: =I21 / J3 -> 0.0010533089
A22: 2.2.6 | B22: 92759 | C22: SINAPI | D22: ARMAÇÃO DE PILAR OU VIGA DE ESTRUTURA CONVENCIONAL DE CONCRETO ARMADO UTILIZANDO AÇO CA-60 DE 5,0 MM - MONTAGEM. AF_06/2022 | E22: KG | F22: 223 | G22: 10.07 | H22: =TRUNC(TRUNC(G22 * J4, 2) + G22, 2) -> 12.23 | I22: =TRUNC(F22 * H22,2) -> 2727.29 | J22: =I22 / J3 -> 0.0050151514
A23: 2.2.7 | B23: 92762 | C23: SINAPI | D23: ARMAÇÃO DE PILAR OU VIGA DE ESTRUTURA CONVENCIONAL DE CONCRETO ARMADO UTILIZANDO AÇO CA-50 DE 10,0 MM - MONTAGEM. AF_06/2022 | E23: KG | F23: 593.5 | G23: 8.06 | H23: =TRUNC(TRUNC(G23 * J4, 2) + G23, 2) -> 9.79 | I23: =TRUNC(F23 * H23,2) -> 5810.36 | J23: =I23 / J3 -> 0.010684539
A24: 2.2.8 | B24: 92763 | C24: SINAPI | D24: ARMAÇÃO DE PILAR OU VIGA DE ESTRUTURA CONVENCIONAL DE CONCRETO ARMADO UTILIZANDO AÇO CA-50 DE 12,5 MM - MONTAGEM. AF_06/2022 | E24: KG | F24: 548.7 | G24: 6.78 | H24: =TRUNC(TRUNC(G24 * J4, 2) + G24, 2) -> 8.23 | I24: =TRUNC(F24 * H24,2) -> 4515.8 | J24: =I24 / J3 -> 0.0083040017
A25: 2.2.9 | B25: 92759 | C25: SINAPI | D25: ARMAÇÃO DE PILAR OU VIGA DE ESTRUTURA CONVENCIONAL DE CONCRETO ARMADO UTILIZANDO AÇO CA-60 DE 5,0 MM - MONTAGEM. AF_06/2022 | E25: KG | F25: 174.2 | G25: 10.07 | H25: =TRUNC(TRUNC(G25 * J4, 2) + G25, 2) -> 12.23 | I25: =TRUNC(F25 * H25,2) -> 2130.46 | J25: =I25 / J3 -> 0.0039176543
A26: 2.2.10 | B26: 96536 | C26: SINAPI | D26: FABRICAÇÃO, MONTAGEM E DESMONTAGEM DE FÔRMA PARA VIGA BALDRAME, EM MADEIRA SERRADA, E=25 MM, 4 UTILIZAÇÕES. AF_01/2024 | E26: m² | F26: 359.4 | G26: 54.05 | H26: =TRUNC(TRUNC(G26 * J4, 2) + G26, 2) -> 65.67 | I26: =TRUNC(F26 * H26,2) -> 23601.79 | J26: =I26 / J3 -> 0.043400794
A27: 2.2.11 | B27: 94966 | C27: SINAPI | D27: CONCRETO FCK = 30MPA, TRAÇO 1:2,1:2,5 (EM MASSA SECA DE CIMENTO/ AREIA MÉDIA/ BRITA 1) - PREPARO MECÂNICO COM BETONEIRA 400 L. AF_05/2021 | E27: m³ | F27: 21.5 | G27: 373.44 | H27: =TRUNC(TRUNC(G27 * J4, 2) + G27, 2) -> 453.76 | I27: =TRUNC(F27 * H27,2) -> 9755.84 | J27: =I27 / J3 -> 0.017939792
A28: 2.3 | D28: ALVENARIAS E ELEVAÇÕES | F28: 1 | H28: =I29 + I30 + I31 + I32 + I33 -> 85984.58 | I28: =TRUNC(F28 * H28,2) -> 85984.58 | J28: =I28 / J3 -> 0.15811508
A29: 2.3.1 | B29: 103328 | C29: SINAPI | D29: ALVENARIA DE VEDAÇÃO DE BLOCOS CERÂMICOS FURADOS NA HORIZONTAL DE 9X19X19 CM (ESPESSURA 9 CM) E ARGAMASSA DE ASSENTAMENTO COM PREPARO EM BETONEIRA. AF_12/2021 | E29: m² | F29: 495.18 | G29: 64.82 | H29: =TRUNC(TRUNC(G29 * J4, 2) + G29, 2) -> 78.76 | I29: =TRUNC(F29 * H29,2) -> 39000.37 | J29: =I29 / J3 -> 0.071716892
A30: 2.3.2 | B30: 87904 | C30: SINAPI | D30: CHAPISCO APLICADO EM ALVENARIA (COM PRESENÇA DE VÃOS) E ESTRUTURAS DE CONCRETO DE FACHADA, COM COLHER DE PEDREIRO. ARGAMASSA TRAÇO 1:3 COM PREPARO MANUAL. AF_10/2022 | E30: m² | F30: 990.37 | G30: 5.91 | H30: =TRUNC(TRUNC(G30 * J4, 2) + G30, 2) -> 7.18 | I30: =TRUNC(F30 * H30,2) -> 7110.85 | J30: =I30 / J3 -> 0.01307598
A31: 2.3.3 | B31: 87794 | C31: SINAPI | D31: EMBOÇO OU MASSA ÚNICA EM ARGAMASSA TRAÇO 1:2:8, PREPARO MANUAL, APLICADA MANUALMENTE EM PANOS CEGOS DE FACHADA (SEM PRESENÇA DE VÃOS), ESPESSURA DE 25 MM. AF_09/2022 | E31: m² | F31: 990.37 | G31: 31.2 | H31: =TRUNC(TRUNC(G31 * J4, 2) + G31, 2) -> 37.91 | I31: =TRUNC(F31 * H31,2) -> 37544.92 | J31: =I31 / J3 -> 0.069040498
A32: 2.3.4 | B32: 105025 | C32: SINAPI | D32: VERGA MOLDADA IN LOCO COM UTILIZAÇÃO DE BLOCOS CANALETA, ESPESSURA DE *15* CM. AF_03/2024 | E32: M | F32: 31.9 | G32: 41.43 | H32: =TRUNC(TRUNC(G32 * J4, 2) + G32, 2) -> 50.34 | I32: =TRUNC(F32 * H32,2) -> 1605.84 | J32: =I32 / J3 -> 0.0029529426
A33: 2.3.5 | B33: 105031 | C33: SINAPI | D33: CONTRAVERGA MOLDADA IN LOCO COM UTILIZAÇÃO DE BLOCOS CANALETA, ESPESSURA DE *15* CM. AF_03/2024 | E33: M | F33: 17.75 | G33: 33.51 | H33: =TRUNC(TRUNC(G33 * J4, 2) + G33, 2) -> 40.71 | I33: =TRUNC(F33 * H33,2) -> 722.6 | J33: =I33 / J3 -> 0.0013287727
A34: 2.4 | D34: INSTALAÇÕES ELETRICAS | F34: 1 | H34: =I35 + I36 + I37 + I38 + I39 + I40 + I41 + I42 + I43 + I44 + I45 + I46 + I47 + I48 + I49 + I50 + I51 + I52 + I53 + I54 + I55 + I56 + I57 + I58 + I59 + I60 + I61 + I62 -> 25201.75 | I34: =TRUNC(F34 * H34,2) -> 25201.75 | J34: =I34 / J3 -> 0.046342924
A35: 2.4.1 | B35: 91940 | C35: SINAPI | D35: CAIXA RETANGULAR 4" X 2" MÉDIA (1,30 M DO PISO), PVC, INSTALADA EM PAREDE - FORNECIMENTO E INSTALAÇÃO. AF_03/2023 | E35: UN | F35: 59 | G35: 11.68 | H35: =TRUNC(TRUNC(G35 * J4, 2) + G35, 2) -> 14.19 | I35: =TRUNC(F35 * H35,2) -> 837.21 | J35: =I35 / J3 -> 0.0015395264
A36: 2.4.2 | B36: 061441 | C36: SBC | D36: CAIXA DE PISO 4X4 FECHADA E BAIXA TRAMONTINA | E36: UN | F36: 4 | G36: 31.07 | H36: =TRUNC(TRUNC(G36 * J4, 2) + G36, 2) -> 37.75 | I36: =TRUNC(F36 * H36,2) -> 151 | J36: =I36 / J3 -> 0.00027767046
A37: 2.4.3 | B37: 91936 | C37: SINAPI | D37: CAIXA OCTOGONAL 4" X 4", PVC, INSTALADA EM LAJE - FORNECIMENTO E INSTALAÇÃO. AF_03/2023 | E37: UN | F37: 53 | G37: 10.39 | H37: =TRUNC(TRUNC(G37 * J4, 2) + G37, 2) -> 12.62 | I37: =TRUNC(F37 * H37,2) -> 668.86 | J37: =I37 / J3 -> 0.0012299514
A38: 2.4.4 | B38: 1119 | C38: ORSE | D38: Curva 90º de pvc rígido soldável, marrom diâm = 40mm | E38: un | F38: 1 | G38: 17.52 | H38: =TRUNC(TRUNC(G38 * J4, 2) + G38, 2) -> 21.28 | I38: =TRUNC(F38 * H38,2) -> 21.28 | J38: =I38 / J3 -> 3.9131307e-05
A39: 2.4.5 | B39: 104450 | C39: SINAPI | D39: LUVA DE EMENDA PARA ELETRODUTO, AÇO GALVANIZADO, DN 40 MM (1 1/2''), APARENTE - FORNECIMENTO E INSTALAÇÃO. AF_10/2022 | E39: UN | F39: 2 | G39: 10.32 | H39: =TRUNC(TRUNC(G39 * J4, 2) + G39, 2) -> 12.53 | I39: =TRUNC(F39 * H39,2) -> 25.06 | J39: =I39 / J3 -> 4.6082263e-05
A40: 2.4.6 | B40: 93660 | C40: SINAPI | D40: DISJUNTOR BIPOLAR TIPO DIN, CORRENTE NOMINAL DE 10A - FORNECIMENTO E INSTALAÇÃO. AF_10/2020 | E40: UN | F40: 5 | G40: 38.4 | H40: =TRUNC(TRUNC(G40 * J4, 2) + G40, 2) -> 46.65 | I40: =TRUNC(F40 * H40,2) -> 233.25 | J40: =I40 / J3 -> 0.00042891811
...

Sheet BDI
A1: (*) | B1: CONCEDENTE: | C1: CAMARA MUNICIPAL DE MAMANGUAPE-PB
B2: OBRA: | C2: OBRA DE CONSTRUÇÃO DE AUDITORIO E AREA DE VIVENCIA DA CAMARA MUNICIPAL DE MAMANGUAPE
A3: (*) | B3: REF. PREÇOS: | C3: SINAPI - ABRIL-2025 - NÃO DESONERADO
B5: CÁLCULO DA BONIFICAÇÃO E DESPESAS INDIRETAS
B7: CÁLCULO DE BDI | D7: 1 - Edificações | G7: 2 - Rodovias, Ferrovias, Pistas de Aeroportos, Infra Viária Urbana | J7: 3 - Abastecimento de Água, Coleta de Esgoto | M7: 4 - Estações e Redes de Distribuição de Energia Elétrica | P7: 5 - Portuárias, Marítimas e Fluviais | S7: 6 - Fornecimento de Materiais e Equipamentos
B8: Item componente do BDI | C8: % Info | D8: 1ºQ | E8: Médio | F8: 3º Q | G8: 1ºQ | H8: Médio | I8: 3º Q | J8: 1ºQ | K8: Médio | L8: 3º Q | M8: 1ºQ | N8: Médio | O8: 3º Q | P8: 1ºQ | Q8: Médio | R8: 3º Q | S8: 1ºQ | T8: Médio | U8: 3º Q
B9: Administração Central ( AC ) | C9: 4 | D9: 3 | E9: 4 | F9: 5.5 | G9: 3.8 | H9: 4.01 | I9: 4.67 | J9: 3.43 | K9: 4.93 | L9: 6.71 | M9: 5.29 | N9: 5.92 | O9: 7.93 | P9: 4 | Q9: 5.52 | R9: 7.85 | S9: 1.5 | T9: 3.45 | U9: 4.49
B10: Seguro e Garantia (G) | C10: 0.8 | D10: 0.8 | E10: 0.8 | F10: 1 | G10: 0.32 | H10: 0.4 | I10: 0.74 | J10: 0.28 | K10: 0.49 | L10: 0.75 | M10: 0.25 | N10: 0.51 | O10: 0.56 | P10: 0.81 | Q10: 1.22 | R10: 1.99 | S10: 0.3 | T10: 0.48 | U10: 0.82
B11: Risco (R) | C11: 0.97 | D11: 0.97 | E11: 1.27 | F11: 1.27 | G11: 0.5 | H11: 0.56 | I11: 0.97 | J11: 1 | K11: 1.39 | L11: 1.74 | M11: 1 | N11: 1.48 | O11: 1.97 | P11: 1.46 | Q11: 2.32 | R11: 3.16 | S11: 0.56 | T11: 0.85 | U11: 0.89
B12: Despesas Financeiras (DF) | C12: 0.59 | D12: 0.59 | E12: 1.23 | F12: 1.39 | G12: 1.02 | H12: 1.11 | I12: 1.21 | J12: 0.94 | K12: 0.99 | L12: 1.17 | M12: 1.01 | N12: 1.07 | O12: 1.11 | P12: 0.94 | Q12: 1.02 | R12: 1.33 | S12: 0.85 | T12: 0.85 | U12: 1.11
B13: Lucro (L) | C13: 7.18 | D13: 6.16 | E13: 7.4 | F13: 8.96 | G13: 6.64 | H13: 7.3 | I13: 8.69 | J13: 6.74 | K13: 8.04 | L13: 9.4 | M13: 8 | N13: 8.31 | O13: 9.51 | P13: 7.14 | Q13: 8.4 | R13: 10.43 | S13: 3.5 | T13: 5.11 | U13: 6.22
B14: Impostos (I) - PIS, COFINS, ISS | C14: =0.65+3+2.5 -> 6.15 | D14: Conforme Legislação Específica
B15: Observações | G15: VALORES DE BDI POR TIPO DE OBRA
B16: 1) Preencher apenas a coluna % Informado (Coluna C) | G16: Tipo de Obra | M16: 1ºQ | N16: Médio | O16: 3º Q
B17: 2) Os impostos (I) normalmente aplicáveis são: PIS (0,65%), COFINS (3,00%), ISS* (5,00% município Mamanguape - PB). | G17: 1 - Edificações | M17: 20.34 | N17: 22.12 | O17: 25
G18: 2 - Rodovias, Ferrovias, Pistas de Aeroportos, Infra Viária Urbana | M18: 19.6 | N18: 20.97 | O18: 24.23
B19: 3) O cálculo do BDI se baseia na fórmula abaixo utilizada pelo Acórdão 2622/13 do TCU, conforme CE GEPAD 354/2013 de 17/10/2013. | G19: 3 - Abastecimento de Água, Coleta de Esgotos | M19: 20.76 | N19: 24.18 | O19: 26.44
G20: 4 - Estações e Redes de Distribuição de Energia Elétrica | M20: 24 | N20: 25.84 | O20: 27.86
G21: 5 - Portuárias, Marítimas e Fluviais | M21: 22.8 | N21: 27.48 | O21: 30.95
B22: Fórmula Utilizada: | G22: 6 - Fornecimento de Materiais e Equipamentos | M22: 11.1 | N22: 14.02 | O22: 16.8
B26: B.D.I = | C26: =ROUND(((1+(C9+C10+C11)/100)*((1+C12/100)*(1+C13/100))/(1-C14/100))-1,4) -> 0.2151
B27: Observações sobre os % informados no cálculo do BDI, neste caso:
B28: =C2 -> OBRA DE CONSTRUÇÃO DE AUDITORIO E AREA DE VIVENCIA DA CAMARA MUNICIPAL DE MAMANGUAPE
B29: * A alíquota de ISS (Imposto Sobre Serviço) do município é de 5%, porém a alíquota incidente sobre o total da nota fiscal de serviço praticada do município é 50% de 5% = 2,5%, em caso de obra.
B30: Os valores % informados se enquadram nos limites do Acordão 2622/2013-TCU-Plenário (CPRB desconsiderado)

Sheet Buttons
B1: Obra | C1: Bancos | D1: B.D.I. | F1: Encargos Sociais
B2: Obra de Construção de Auditorio e Area de Vivencia da Camara Municipal de Mamanguape | C2: SINAPI - 04/2025 - Paraíba SBC - 06/2025 - Paraíba ORSE - 03/2025 - Sergipe SEINFRA - 028 - Ceará | D2: 21,51% | F2: Não Desonerado: embutido nos preços unitário dos insumos de mão de obra, de acordo com as bases.
A3: Cronograma Físico e Financeiro
A4: Item | B4: Descrição | C4: Total Por Etapa | D4: 30 DIAS | E4: 60 DIAS | F4: 90 DIAS | G4: 120 DIAS | H4: 150 DIAS | I4: 180 DIAS | J4: 210 DIAS | K4: 240 DIAS
A5: 1 | B5: SERVIÇOS PRELIMINARES | C5: 100,00% 2.767,09 | D5: 100,00% 2.767,09
A6: 2 | B6: AUDITORIO | C6: 100,00% 506.193,96 | D6: 10,00% 50.579,57 | E6: 10,57% 53.476,97 | F6: 10,71% 54.186,63 | G6: 13,11% 66.305,02 | H6: 10,27% 51.953,41 | I6: 17,01% 103.456,22 | J6: 16,83% 92104,85 | K6: 11,49% 68568,59
A7: 2.1 | B7: RETIRADAS E DEMOLIÇÕES | C7: 100,00% 17.419,03 | D7: 100,00% 17.419,03
A8: 2.2 | B8: SUPERESTRUTURAS | C8: 100,00% 55.953,83 | D8: 60,00% 33.572,30 | E8: 40,00% 22.381,53
A9: 2.3 | B9: ALVENARIAS E ELEVAÇÕES | C9: 100,00% 85.984,58 | E9: 20,00% 17.196,92 | F9: 40,00% 34.393,83 | G9: 40,00% 34.393,83
A10: 2.4 | B10: INSTALAÇÕES ELETRICAS | C10: 100,00% 25.201,75 | H10: 20,00% 5.040,35 | I10: 30,00% 7.560,53 | J10: 30,00% 7.560,53 | K10: 20,00% 5.040,35
A11: 2.5 | B11: LOUÇAS E METAIS | C11: 100,00% 27.378,93 | J11: 50,00% 13.689,47 | K11: 50,00% 13.689,47
A12: 2.6 | B12: ESQUADRIAS | C12: 100,00% 35.552,87 | J12: 50,00% 17.776,43 | K12: 50,00% 17.776,44
A13: 2.7 | B13: FORRO | C13: 100,00% 24.414,84 | J13: 40,00% 9.765,94 | K13: 60,00% 14.648,90
A14: 2.8 | B14: INSTALAÇÕES HIDROSSANITARIAS | C14: 100,00% 14.783,45 | G14: 30,00% 4.435,04 | H14: 30,00% 4.435,04 | I14: 40,00% 5.913,38
A15: 2.9 | B15: COBERTA | C15: 100,00% 89.301,37 | H15: 30,00% 26.790,41 | I15: 40,00% 35.720,55 | J15: 30,00% 26.790,41
A16: 2.10 | B16: PISO | C16: 100,00% 29.471,37 | E16: 20,00% 5.894,27 | F16: 40,00% 11.788,55 | G16: 40,00% 11.788,55
A17: 2.11 | B17: EMASSAMENTO E PINTURA | C17: 100,00% 31.840,87 | I17: 50,00% 15.920,44 | J17: 30,00% 9.552,26 | K17: 20,00% 6.368,17
A18: 2.12 | B18: REVESTIMENTOS | C18: 100,00% 52.292,03 | G18: 30,00% 15.687,61 | H18: 30,00% 15.687,61 | I18: 40,00% 20.916,81
A19: 2.13 | B19: EMBASAMENTO E IMPERMEABILIZAÇÕES | C19: 100,00% 16.008,50 | E19: 50,00% 8.004,25 | F19: 50,00% 8.004,25
A20: 2.14 | B20: DIVERSOS | C20: 100,00% 590,54 | K20: 100,00% 590,54
A21: 3 | B21: AREA DE VIVENCIA | C21: 100,00% 34.849,05 | I21: 50,00% 17.424,53 | J21: 20,00% 6.969,81 | K21: 30,00% 10.454,72
A22: Porcentagem | D22: 9,82% | E22: 9,84% | F22: 9,97% | G22: 12,2% | H22: 9,56% | I22: 19,04% | J22: 16,95% | K22: 12,62%
A23: Custo | D23: =2767.09+17419.03+33572.3 -> 53758.42 | E23: 53476.97 | F23: 54186.63 | G23: 66305.02 | H23: 51953.4 | I23: 103456.22 | J23: =7560.53+13689.47+17776.43+9765.94+26790.41+9552.26+6969.81 -> 92104.85 | K23: =5040.35+13689.47+17776.44+14648.9+6368.17+590.54+10454.72 -> 68568.59
A24: Porcentagem Acumulado | D24: 9,82% | E24: 19,66% | F24: 29,63% | G24: 41,83% | H24: 51,39% | I24: 70,43% | J24: 87,38% | K24: 100,0%
A25: Custo Acumulado | D25: =D23 -> 53758.42 | E25: =D25+E23 -> 107235.39 | F25: =E25+F23 -> 161422.02 | G25: =F25+G23 -> 227727.04 | H25: =G25+H23 -> 279680.44 | I25: =H25+I23 -> 383136.66 | J25: =I25+J23 -> 475241.51 | K25: =J25+K23 -> 543810.1
A28: _______________________________________________________________

Sheet ENCARGOS SEM DESON.
A1: Quadro de Detalhamento dos Encargos Sociais
A2: SEM DESONERAÇÃO
A4: GRUPO A | C4: Horista | D4: Mensalista
A5: A1 | B5: INSS | C5: 0.2 | D5: 0.2
A6: A2 | B6: SESI | C6: 0.015 | D6: 0.015
A7: A3 | B7: SENAI | C7: 0.01 | D7: 0.01
A8: A4 | B8: INCRA | C8: 0.002 | D8: 0.002
A9: A5 | B9: SEBRAE | C9: 0.006 | D9: 0.006
A10: A6 | B10: SALÁRIO EDUCAÇÃO | C10: 0.025 | D10: 0.025
A11: A7 | B11: SEGURO CONTRA ACIDENTES DO TRABALHO | C11: 0.03 | D11: 0.03
A12: A8 | B12: FGTS | C12: 0.08 | D12: 0.08
A13: A9 | B13: SECONCI (não se aplica) | C13: 0 | D13: 0
A14: A | B14: Total | C14: =SUM(C5:C13) -> 0.368 | D14: =SUM(D5:D13) -> 0.368
A15: GRUPO B | C15: Horista | D15: Mensalista
A16: B1 | B16: Repouso semanal remunerado | C16: 0.1802 | D16: não incide
A17: B2 | B17: Feriados | C17: 0.0431 | D17: não incide
A18: B3 | B18: Auxílio Enfermidade | C18: 0.0086 | D18: 0.0065
A19: B4 | B19: 13º salário | C19: 0.1096 | D19: 0.0833
A20: B5 | B20: Licença Paternidade | C20: 0.0007 | D20: 0.0005
A21: B6 | B21: Faltas Justificadas | C21: 0.0073 | D21: 0.0056
A22: B7 | B22: Dias de Chuvas | C22: 0.0204 | D22: não incide
A23: B8 | B23: Auxílio Acidente de Trabalho | C23: 0.001 | D23: 0.0007
A24: B9 | B24: Férias gozadas | C24: 0.0976 | D24: 0.0742
A25: B10 | B25: Salário maternidade | C25: 0.0003 | D25: 0.0003
A26: B | B26: Total | C26: =SUM(C16:C25) -> 0.4688 | D26: =SUM(D16:D25) -> 0.1711
A27: GRUPO C | C27: Horista | D27: Mensalista
A28: C1 | B28: Aviso prévio indenizado | C28: 0.0453 | D28: 0.0345
A29: C2 | B29: Aviso prévio trabalhado | C29: 0.0011 | D29: 0.0008
A30: C3 | B30: Férias indenizadas | C30: 0.0429 | D30: 0.0323
A31: C4 | B31: Depósito rescisão sem justa causa | C31: 0.0296 | D31: 0.0228
A32: C5 | B32: Indenização adicional | C32: 0.0038 | D32: 0.0029
A33: C | B33: Total | C33: =SUM(C28:C32) -> 0.1227 | D33: =SUM(D28:D32) -> 0.0933
A34: GRUPO D | C34: Horista | D34: Mensalista
A35: D1 | B35: Reincidência do Grupo A sobre o Grupo B | C35: 0.1725 | D35: 0.063
A36: D2 | B36: Reincidência de Grupo A sobre Aviso Prévio Trabalhado e Reincidência do FGTS sobre Aviso prévio Indenizado | C36: 0.004 | D36: 0.0031
A37: D | B37: Total | C37: =SUM(C35:C36) -> 0.1765 | D37: =SUM(D35:D36) -> 0.0661
A38: TOTAL (A+B+C+D) | C38: =C37+C33+C26+C14 -> 1.136 | D38: =D37+D33+D26+D14 -> 0.6985

Sheet Orçamento Analítico
D1: Obra | E1: Bancos | G1: B.D.I. | I1: Encargos Sociais
D2: Obra de Construção de Auditorio e Area de Vivencia da Camara Municipal de Mamanguape | E2: SINAPI - 04/2025 - Paraíba SBC - 06/2025 - Paraíba ORSE - 03/2025 - Sergipe SEINFRA - 028 - Ceará | G2: 21,51% | I2: Não Desonerado: embutido nos preços unitário dos insumos de mão de obra, de acordo com as bases.
A3: Planilha Orçamentária Analítica
A4: 1 | D4: SERVIÇOS PRELIMINARES
B5: Código | C5: Banco | D5: Descrição | E5: Tipo | G5: Und | H5: Quant. | I5: Valor Unit | J5: Total
A6: Insumo | B6: PAV4 | C6: Próprio | D6: ART DE EXECUÇÃO | E6: Taxas | G6: Und | H6: 1 | I6: 208.19 | J6: 208.19
E7: MO sem LS => | F7: 0 | G7: LS => | H7: 0 | I7: MO com LS => | J7: 0
E8: Valor do BDI => | H8: Valor com BDI => | J8: 252.97
G9: Quant. => | H9: 1,00 | I9: Preço Total => | J9: 252.97
A11: 1.2 | B11: Código | C11: Banco | D11: Descrição | E11: Tipo | G11: Und | H11: Quant. | I11: Valor Unit | J11: Total
A12: Composição | B12: 103689 | C12: SINAPI | D12: FORNECIMENTO E INSTALAÇÃO DE PLACA DE OBRA COM CHAPA GALVANIZADA E ESTRUTURA DE MADEIRA. AF_03/2022_PS | E12: PAVI - PAVIMENTAÇÃO | G12: m² | H12: 1 | I12: 344.85 | J12: 344.85
A13: Composição Auxiliar | B13: 88316 | C13: SINAPI | D13: SERVENTE COM ENCARGOS COMPLEMENTARES | E13: SEDI - SERVIÇOS DIVERSOS | G13: H | H13: 1.1186 | I13: 15.17 | J13: 16.96
A14: Composição Auxiliar | B14: 88262 | C14: SINAPI | D14: CARPINTEIRO DE FORMAS COM ENCARGOS COMPLEMENTARES | E14: SEDI - SERVIÇOS DIVERSOS | G14: H | H14: 0.3729 | I14: 18.4 | J14: 6.86
A15: Composição Auxiliar | B15: 102234 | C15: SINAPI | D15: PINTURA IMUNIZANTE PARA MADEIRA, 2 DEMÃOS. AF_01/2021 | E15: PINT - PINTURAS | G15: m² | H15: 0.5 | I15: 17.12 | J15: 8.56
A16: Insumo | B16: 00005069 | C16: SINAPI | D16: PREGO DE ACO POLIDO COM CABECA 17 X 27 (2 1/2 X 11) | E16: Material | G16: KG | H16: 0.0132 | I16: 15.43 | J16: 0.2
A17: Insumo | B17: 00005065 | C17: SINAPI | D17: PREGO DE ACO POLIDO COM CABECA 10 X 10 (7/8 X 17) | E17: Material | G17: KG | H17: 0.0113 | I17: 28.77 | J17: 0.32
A18: Insumo | B18: 00004813 | C18: SINAPI | D18: PLACA DE OBRA (PARA CONSTRUCAO CIVIL) EM CHAPA GALVANIZADA *N. 22*, ADESIVADA, DE *2,4 X 1,2* M (SEM POSTES PARA FIXACAO) | E18: Material | G18: M² | H18: 1 | I18: 297.42 | J18: 297.42
A19: Insumo | B19: 00004509 | C19: SINAPI | D19: SARRAFO *2,5 X 10* CM EM PINUS, MISTA OU EQUIVALENTE DA REGIAO - BRUTA | E19: Material | G19: M | H19: 3.2083 | I19: 4.53 | J19: 14.53
E20: MO sem LS => | F20: 21.37 | G20: LS => | H20: 0 | I20: MO com LS => | J20: 21.37
E21: Valor do BDI => | F21: 74.17 | H21: Valor com BDI => | J21: 419.02
G22: Quant. => | H22: 6,00 | I22: Preço Total => | J22: 2514.12
A24: 2 | D24: AUDITORIO
A25: 2.1 | D25: RETIRADAS E DEMOLIÇÕES
A26: 2.1.1 | B26: Código | C26: Banco | D26: Descrição | E26: Tipo | G26: Und | H26: Quant. | I26: Valor Unit | J26: Total
A27: Composição | B27: 97635 | C27: SINAPI | D27: REMOÇÃO DE PISO DE BLOCO INTERTRAVADO OU DE PEDRA PORTUGUESA, DE FORMA MANUAL, COM REAPROVEITAMENTO. AF_09/2023 | E27: SERP - SERVIÇOS PRELIMINARES | G27: m² | H27: 1 | I27: 12.21 | J27: =SUM(J28:J29) -> 13.463842
A28: Composição Auxiliar | B28: 88260 | C28: SINAPI | D28: CALCETEIRO COM ENCARGOS COMPLEMENTARES | E28: SEDI - SERVIÇOS DIVERSOS | G28: H | H28: 0.5477 | I28: 18.73 | J28: =H28*I28 -> 10.258421
A29: Composição Auxiliar | B29: 88316 | C29: SINAPI | D29: SERVENTE COM ENCARGOS COMPLEMENTARES | E29: SEDI - SERVIÇOS DIVERSOS | G29: H | H29: 0.2113 | I29: 15.17 | J29: =H29*I29 -> 3.205421
E30: MO sem LS => | F30: 9.5 | G30: LS => | H30: 0 | I30: MO com LS => | J30: 9.5
E31: Valor do BDI => | F31: 2.62 | H31: Valor com BDI => | J31: ='Orçamento Sintético'!H11 -> 16.35
G32: Quant. => | H32: 270,89 | I32: Preço Total => | J32: ='Orçamento Sintético'!I11 -> 4429.05
A34: 2.1.2 | B34: Código | C34: Banco | D34: Descrição | E34: Tipo | G34: Und | H34: Quant. | I34: Valor Unit | J34: Total
A35: Composição | B35: 022974 | C35: SBC | D35: REMOCAO POSTE METALICO ENGT CONCR DE 5A7M C/E S/ REAPROVEIT. | E35: DEMOLICOES | G35: UN | H35: 1 | I35: 577.25 | J35: 577.25
A36: Insumo | B36: 099806 | C36: SBC | D36: AJUDANTE DE ELETRICISTA | E36: Mão de Obra | G36: H | H36: 1.547 | I36: 13.67 | J36: 21.14
A37: Insumo | B37: 030542 | C37: SBC | D37: CAMINHAO GUINDAUTO MERCEDES L1620 8tn 200CV | E37: Material | G37: H | H37: 0.45 | I37: 97.4 | J37: 43.83
A38: Insumo | B38: 099900 | C38: SBC | D38: SERVENTE | E38: Mão de Obra | G38: H | H38: 15.305 | I38: 11.06 | J38: 169.27
A39: Insumo | B39: 012620 | C39: SBC | D39: CABO DE COBRE NU MEIO DURO 7 FIOS 35mm2 | E39: Material | G39: M | H39: 9 | I39: 26.62 | J39: 239.58
A40: Insumo | B40: 099250 | C40: SBC | D40: ELETRICISTA | E40: Mão de Obra | G40: H | H40: 5.022 | I40: 15.15 | J40: 76.08
A41: Insumo | B41: 099050 | C41: SBC | D41: PEDREIRO | E41: Mão de Obra | G41: H | H41: 1.898 | I41: 14.41 | J41: 27.35
E42: MO sem LS => | F42: 293.84 | G42: LS => | H42: 0 | I42: MO com LS => | J42: 293.84
E43: Valor do BDI => | F43: 124.16 | H43: Valor com BDI => | J43: 701.41
...
